BEGIN:VCALENDAR
VERSION:2.0
PRODID:-//Catalyst Design for Decarbonization Center - ECPv6.15.8//NONSGML v1.0//EN
CALSCALE:GREGORIAN
METHOD:PUBLISH
X-WR-CALNAME:Catalyst Design for Decarbonization Center
X-ORIGINAL-URL:https://cd4dc.center.uchicago.edu
X-WR-CALDESC:Events for Catalyst Design for Decarbonization Center
REFRESH-INTERVAL;VALUE=DURATION:PT1H
X-Robots-Tag:noindex
X-PUBLISHED-TTL:PT1H
BEGIN:VTIMEZONE
TZID:UTC
BEGIN:STANDARD
TZOFFSETFROM:+0000
TZOFFSETTO:+0000
TZNAME:UTC
DTSTART:20250101T000000
END:STANDARD
END:VTIMEZONE
BEGIN:VEVENT
DTSTART;TZID=UTC:20260505T153000
DTEND;TZID=UTC:20260505T170000
DTSTAMP:20260420T120507
CREATED:20251014T180948Z
LAST-MODIFIED:20251014T180948Z
UID:1323-1777995000-1778000400@cd4dc.center.uchicago.edu
SUMMARY:CD4DC Group Meeting (Wuttig\, Ferguson)
DESCRIPTION:
URL:https://cd4dc.center.uchicago.edu/event/cd4dc-group-meeting-wuttig-ferguson-2/
END:VEVENT
BEGIN:VEVENT
DTSTART;TZID=UTC:20260602T153000
DTEND;TZID=UTC:20260602T170000
DTSTAMP:20260420T120507
CREATED:20251014T181033Z
LAST-MODIFIED:20251014T181033Z
UID:1325-1780414200-1780419600@cd4dc.center.uchicago.edu
SUMMARY:CD4DC Group Meeting (de Pablo\, Chapman)
DESCRIPTION:
URL:https://cd4dc.center.uchicago.edu/event/cd4dc-group-meeting-de-pablo-chapman-2/
END:VEVENT
BEGIN:VEVENT
DTSTART;TZID=UTC:20260707T153000
DTEND;TZID=UTC:20260707T170000
DTSTAMP:20260420T120507
CREATED:20251014T181113Z
LAST-MODIFIED:20251014T181113Z
UID:1327-1783438200-1783443600@cd4dc.center.uchicago.edu
SUMMARY:CD4DC Group Meeting (Getman\, Notestein)
DESCRIPTION:
URL:https://cd4dc.center.uchicago.edu/event/cd4dc-group-meeting-getman-notestein/
END:VEVENT
END:VCALENDAR